Workbook

Sheet Clienti
A1: Cliente | B1: Città | C1: Referente | D1: Telefono | E1: Email | F1: Categoria | G1: Ultimo contatto | H1: Prossimo contatto | I1: Giorni senza contatti | J1: Da fare | K1: Ordinato (€) | L1: Note
A2: Esempio — Ferramenta Rossi | B2: Bergamo | C2: Mario Rossi | D2: +39 035 123456 | E2: ordini@ferramentarossi.esempio.it | F2: A | G2: 46297 | H2: 46325 | I2: =IF(G2="","",TODAY()-G2) | J2: =IF(A2="","",IF(AND(H2<>"",H2<=TODAY()),"Richiamare",IF(AND(I2<>"",I2>60),"Da sentire",""))) | K2: =IF(A2="","",SUMIF(Visite!$B$2:$B$1000,A2,Visite!$E$2:$E$1000)) | L2: Vuole il listino nuovo
A3: Esempio — Edilcasa Srl | B3: Brescia | C3: Giulia Bianchi | D3: +39 030 654321 | E3: acquisti@edilcasa.esempio.it | F3: B | G3: 46254 | I3: =IF(G3="","",TODAY()-G3) | J3: =IF(A3="","",IF(AND(H3<>"",H3<=TODAY()),"Richiamare",IF(AND(I3<>"",I3>60),"Da sentire",""))) | K3: =IF(A3="","",SUMIF(Visite!$B$2:$B$1000,A3,Visite!$E$2:$E$1000))
I4: =IF(G4="","",TODAY()-G4) | J4: =IF(A4="","",IF(AND(H4<>"",H4<=TODAY()),"Richiamare",IF(AND(I4<>"",I4>60),"Da sentire",""))) | K4: =IF(A4="","",SUMIF(Visite!$B$2:$B$1000,A4,Visite!$E$2:$E$1000))
I5: =IF(G5="","",TODAY()-G5) | J5: =IF(A5="","",IF(AND(H5<>"",H5<=TODAY()),"Richiamare",IF(AND(I5<>"",I5>60),"Da sentire",""))) | K5: =IF(A5="","",SUMIF(Visite!$B$2:$B$1000,A5,Visite!$E$2:$E$1000))
I6: =IF(G6="","",TODAY()-G6) | J6: =IF(A6="","",IF(AND(H6<>"",H6<=TODAY()),"Richiamare",IF(AND(I6<>"",I6>60),"Da sentire",""))) | K6: =IF(A6="","",SUMIF(Visite!$B$2:$B$1000,A6,Visite!$E$2:$E$1000))
I7: =IF(G7="","",TODAY()-G7) | J7: =IF(A7="","",IF(AND(H7<>"",H7<=TODAY()),"Richiamare",IF(AND(I7<>"",I7>60),"Da sentire",""))) | K7: =IF(A7="","",SUMIF(Visite!$B$2:$B$1000,A7,Visite!$E$2:$E$1000))
I8: =IF(G8="","",TODAY()-G8) | J8: =IF(A8="","",IF(AND(H8<>"",H8<=TODAY()),"Richiamare",IF(AND(I8<>"",I8>60),"Da sentire",""))) | K8: =IF(A8="","",SUMIF(Visite!$B$2:$B$1000,A8,Visite!$E$2:$E$1000))
I9: =IF(G9="","",TODAY()-G9) | J9: =IF(A9="","",IF(AND(H9<>"",H9<=TODAY()),"Richiamare",IF(AND(I9<>"",I9>60),"Da sentire",""))) | K9: =IF(A9="","",SUMIF(Visite!$B$2:$B$1000,A9,Visite!$E$2:$E$1000))
I10: =IF(G10="","",TODAY()-G10) | J10: =IF(A10="","",IF(AND(H10<>"",H10<=TODAY()),"Richiamare",IF(AND(I10<>"",I10>60),"Da sentire",""))) | K10: =IF(A10="","",SUMIF(Visite!$B$2:$B$1000,A10,Visite!$E$2:$E$1000))
I11: =IF(G11="","",TODAY()-G11) | J11: =IF(A11="","",IF(AND(H11<>"",H11<=TODAY()),"Richiamare",IF(AND(I11<>"",I11>60),"Da sentire",""))) | K11: =IF(A11="","",SUMIF(Visite!$B$2:$B$1000,A11,Visite!$E$2:$E$1000))
I12: =IF(G12="","",TODAY()-G12) | J12: =IF(A12="","",IF(AND(H12<>"",H12<=TODAY()),"Richiamare",IF(AND(I12<>"",I12>60),"Da sentire",""))) | K12: =IF(A12="","",SUMIF(Visite!$B$2:$B$1000,A12,Visite!$E$2:$E$1000))
I13: =IF(G13="","",TODAY()-G13) | J13: =IF(A13="","",IF(AND(H13<>"",H13<=TODAY()),"Richiamare",IF(AND(I13<>"",I13>60),"Da sentire",""))) | K13: =IF(A13="","",SUMIF(Visite!$B$2:$B$1000,A13,Visite!$E$2:$E$1000))
I14: =IF(G14="","",TODAY()-G14) | J14: =IF(A14="","",IF(AND(H14<>"",H14<=TODAY()),"Richiamare",IF(AND(I14<>"",I14>60),"Da sentire",""))) | K14: =IF(A14="","",SUMIF(Visite!$B$2:$B$1000,A14,Visite!$E$2:$E$1000))
I15: =IF(G15="","",TODAY()-G15) | J15: =IF(A15="","",IF(AND(H15<>"",H15<=TODAY()),"Richiamare",IF(AND(I15<>"",I15>60),"Da sentire",""))) | K15: =IF(A15="","",SUMIF(Visite!$B$2:$B$1000,A15,Visite!$E$2:$E$1000))
... I151: =IF(G151="","",TODAY()-G151) | J151: =IF(A151="","",IF(AND(H151<>"",H151<=TODAY()),"Richiamare",IF(AND(I151<>"",I151>60),"Da sentire",""))) | K151: =IF(A151="","",SUMIF(Visite!$B$2:$B$1000,A151,Visite!$E$2:$E$1000))

Sheet Visite
A1: Data | B1: Cliente | C1: Tipo | D1: Esito | E1: Ordine (€) | F1: Prossimo passo
A2: 46297 | B2: Esempio — Ferramenta Rossi | C2: Visita | D2: Ordine | E2: 1250 | F2: Portare listino nuovo
A3: 46254 | B3: Esempio — Edilcasa Srl | C3: Telefonata | D3: Da richiamare | E3: 0 | F3: Preventivo cartongesso

Sheet Istruzioni
A1: Come si usa
A2: Clienti: una riga per cliente. Categoria A, B o C (importanza). Le righe «Esempio» si cancellano.
A3: Visite: una riga per ogni visita o telefonata, con il nome del cliente scritto come nel foglio Clienti.
A4: Si calcolano da soli: giorni senza contatti, «Da fare» e il totale ordinato da ogni cliente (dal foglio Visite).
A5: Giallo = «Richiamare» (la data del prossimo contatto è arrivata). Rosso = «Da sentire» (più di 60 giorni senza contatti).
A6: Ogni mattina: filtra «Da fare» e parti da lì.
A7: Guida completa: https://ibisense.it/guide/foglio-clienti-agenti-commercio.html
